BEGIN:VCALENDAR
VERSION:2.0
PRODID:-//Ruutvoorn | Volleybal vereniging Genemuiden - ECPv6.15.20//NONSGML v1.0//EN
CALSCALE:GREGORIAN
METHOD:PUBLISH
X-ORIGINAL-URL:https://www.ruutvoorn.nl
X-WR-CALDESC:Evenementen voor Ruutvoorn | Volleybal vereniging Genemuiden
REFRESH-INTERVAL;VALUE=DURATION:PT1H
X-Robots-Tag:noindex
X-PUBLISHED-TTL:PT1H
BEGIN:VTIMEZONE
TZID:Europe/Paris
BEGIN:DAYLIGHT
TZOFFSETFROM:+0100
TZOFFSETTO:+0200
TZNAME:CEST
DTSTART:20250330T010000
END:DAYLIGHT
BEGIN:STANDARD
TZOFFSETFROM:+0200
TZOFFSETTO:+0100
TZNAME:CET
DTSTART:20251026T010000
END:STANDARD
BEGIN:DAYLIGHT
TZOFFSETFROM:+0100
TZOFFSETTO:+0200
TZNAME:CEST
DTSTART:20260329T010000
END:DAYLIGHT
BEGIN:STANDARD
TZOFFSETFROM:+0200
TZOFFSETTO:+0100
TZNAME:CET
DTSTART:20261025T010000
END:STANDARD
BEGIN:DAYLIGHT
TZOFFSETFROM:+0100
TZOFFSETTO:+0200
TZNAME:CEST
DTSTART:20270328T010000
END:DAYLIGHT
BEGIN:STANDARD
TZOFFSETFROM:+0200
TZOFFSETTO:+0100
TZNAME:CET
DTSTART:20271031T010000
END:STANDARD
END:VTIMEZONE
BEGIN:VEVENT
DTSTART;TZID=Europe/Paris:20260214T120000
DTEND;TZID=Europe/Paris:20260214T160000
DTSTAMP:20260420T102715
CREATED:20260204T134041Z
LAST-MODIFIED:20260204T134041Z
UID:8733-1771070400-1771084800@www.ruutvoorn.nl
SUMMARY:MC1 12.00 u. Dames 2 en MB1 14.30 u.
DESCRIPTION:
URL:https://www.ruutvoorn.nl/event/mc1-12-00-u-dames-2-en-mb1-14-30-u/
END:VEVENT
END:VCALENDAR